BEGIN:VCALENDAR
VERSION:2.0
PRODID:-//Upcoming Events – Events &amp; Promotions | Queen&#039;s Tandoor - ECPv6.3.6//NONSGML v1.0//EN
CALSCALE:GREGORIAN
METHOD:PUBLISH
X-WR-CALNAME:Upcoming Events – Events &amp; Promotions | Queen&#039;s Tandoor
X-ORIGINAL-URL:https://bali.queenstandoor.com/events
X-WR-CALDESC:Events for Upcoming Events – Events &amp; Promotions | Queen&#039;s Tandoor
REFRESH-INTERVAL;VALUE=DURATION:PT1H
X-Robots-Tag:noindex
X-PUBLISHED-TTL:PT1H
BEGIN:VTIMEZONE
TZID:UTC
BEGIN:STANDARD
TZOFFSETFROM:+0000
TZOFFSETTO:+0000
TZNAME:UTC
DTSTART:20240101T000000
END:STANDARD
END:VTIMEZONE
BEGIN:VEVENT
DTSTART;VALUE=DATE:20240805
DTEND;VALUE=DATE:20241001
DTSTAMP:20260421T182920
CREATED:20240805T093822Z
LAST-MODIFIED:20240906T064532Z
UID:5018-1722816000-1727740799@bali.queenstandoor.com
SUMMARY:Enjoy Happy Hour at Queen's of India Kuta\, Nusa Dua & Ubud!
DESCRIPTION:Escape the ordinary and elevate your evening with our daily Happy Hour at Queen’s of India. From 4pm to 7pm\, taste our finest cocktails\, expertly crafted to tantalize your taste buds. Enjoy the generous 𝐁𝐮𝐲 𝐓𝐰𝐨 𝐆𝐞𝐭 𝐎𝐧𝐞 𝐅𝐫𝐞𝐞 𝐝𝐞𝐚𝐥 and gather your friends to make unforgettable memories at our luxurious haven. \nBook Your Table Now!\nWA: +62 816 942 942 \nVenue:\nQueen’s of India Kuta – Google Map\nQueen’s of India Nusa Dua – Google Map\nQueen’s of India Ubud – Google Map
URL:https://bali.queenstandoor.com/events/listview/happy-hour-qoi/
LOCATION:Queen’s of India Kuta\, Jl Kartika Plaza No 145\, Kuta\, Bali\, 80361\, Indonesia
CATEGORIES:Promo Queen's Bali
ATTACH;FMTTYPE=image/jpeg:https://bali.queenstandoor.com/events/wp-content/uploads/2024/08/TEMPLATE-PROMO-ALLSIZE-HAPPY-HOUR-QOI-02_Website-Banner-wordpress-based-scaled.jpg
END:VEVENT
BEGIN:VEVENT
DTSTART;VALUE=DATE:20240805
DTEND;VALUE=DATE:20241001
DTSTAMP:20260421T182920
CREATED:20240805T100132Z
LAST-MODIFIED:20240906T064929Z
UID:5053-1722816000-1727740799@bali.queenstandoor.com
SUMMARY:Double the Fun at Queen's Tandoor!
DESCRIPTION:Enjoy Happy Hour at Queen’s Tandoor Bali from 3 PM – 6 PM every day! Grab our awesome Buy One Get One Free deal on all cocktails. It’s the perfect time to hang out with friends\, make new ones\, and create some unforgettable memories. Snap\, sip\, and share your fun moments with us! \nVenue:\nQueen’s Tandoor Indian Cuisine\nJl Raya Seminyak 1/73\n80361 Bali – Seminyak \nReserve Your Table\nWA 📞: + 62 816-942-942
URL:https://bali.queenstandoor.com/events/listview/double-the-fun-at-queens-tandoor/
LOCATION:Queens Tandoor Indian Cuisine\, Jl Raya Seminyak no 1/73\, Badung\, Bali\, 80361\, Indonesia
CATEGORIES:Promo Queen's Bali
ATTACH;FMTTYPE=image/jpeg:https://bali.queenstandoor.com/events/wp-content/uploads/2024/08/TEMPLATE-PROMO-ALLSIZE-HAPPY-HOUR_Website-Banner-wordpress-based-scaled.jpg
END:VEVENT
END:VCALENDAR